{"text_format":"1","workbook":"xlsx","n_sheets":3,"sheets":["Calendar","Sheet3","Comments"],"not_rendered":{"charts":0,"images":1,"macros":1,"external_links":0,"defined_names":30,"comments":0,"pivot_tables":0},"unopened":[],"bounds":{"document_bytes":16777216,"sheet_cells":100000,"rows_first":2000,"rows_last":500,"rows_between":2000,"halvings":0,"cell_chars":16384,"cell_head_chars":4096},"cells_cut":0,"cells_raw":0,"read":"whole","date_system":"1900"}

{"sheet":"Calendar","index":0,"n_rows":15,"n_cols":8,"rows_kept":15,"cut":false,"hidden":false,"merged":[]}
[]
[null,null,null,null,{"$f":"Sheet3!C1","v":2015}]
[null,null,null,null,{"$f":"TEXT(DATE(E2,Sheet3!C2,1),\"mmm\")","v":"Jan"}]
[]
[null,{"$f":"TEXT(DATE(E2,Sheet3!C2,1),\"mmmm\")&\" \"&E2","v":"January 2015"}]
[null,"Mon","Tue","Wed","Thu","Fri","Sat","Sun"]
[null,{"$f":"IF(WEEKDAY(DATE(Sheet3!C1,Sheet3!C2,1),2)=COLUMNS($B$7:B7),1,IF(ISNUMBER(A7),A7+1,\"\"))","v":""},{"$f":"IF(WEEKDAY(DATE(Sheet3!C1,Sheet3!C2,1),2)=COLUMNS($B$7:C7),1,IF(ISNUMBER(B7),B7+1,\"\"))","v":""},{"$f":"IF(WEEKDAY(DATE(Sheet3!C1,Sheet3!C2,1),2)=COLUMNS($B$7:D7),1,IF(ISNUMBER(C7),C7+1,\"\"))","v":""},{"$f":"IF(WEEKDAY(DATE(Sheet3!C1,Sheet3!C2,1),2)=COLUMNS($B$7:E7),1,IF(ISNUMBER(D7),D7+1,\"\"))","v":1},{"$f":"IF(WEEKDAY(DATE(Sheet3!C1,Sheet3!C2,1),2)=COLUMNS($B$7:F7),1,IF(ISNUMBER(E7),E7+1,\"\"))","v":2},{"$f":"IF(WEEKDAY(DATE(Sheet3!C1,Sheet3!C2,1),2)=COLUMNS($B$7:G7),1,IF(ISNUMBER(F7),F7+1,\"\"))","v":3},{"$f":"IF(WEEKDAY(DATE(Sheet3!C1,Sheet3!C2,1),2)=COLUMNS($B$7:H7),1,IF(ISNUMBER(G7),G7+1,\"\"))","v":4}]
[null,{"$f":"IF(H7<DAY(DATE(Sheet3!$C$1,Sheet3!$C$2+1,1)-1),H7+1,\"\")","v":5},{"$f":"IF(B8<DAY(DATE(Sheet3!$C$1,Sheet3!$C$2+1,1)-1),B8+1,\"\")","v":6},{"$f":"IF(C8<DAY(DATE(Sheet3!$C$1,Sheet3!$C$2+1,1)-1),C8+1,\"\")","v":7},{"$f":"IF(D8<DAY(DATE(Sheet3!$C$1,Sheet3!$C$2+1,1)-1),D8+1,\"\")","v":8},{"$f":"IF(E8<DAY(DATE(Sheet3!$C$1,Sheet3!$C$2+1,1)-1),E8+1,\"\")","v":9},{"$f":"IF(F8<DAY(DATE(Sheet3!$C$1,Sheet3!$C$2+1,1)-1),F8+1,\"\")","v":10},{"$f":"IF(G8<DAY(DATE(Sheet3!$C$1,Sheet3!$C$2+1,1)-1),G8+1,\"\")","v":11}]
[null,{"$f":"IF(H8<DAY(DATE(Sheet3!$C$1,Sheet3!$C$2+1,1)-1),H8+1,\"\")","v":12},{"$f":"IF(B9<DAY(DATE(Sheet3!$C$1,Sheet3!$C$2+1,1)-1),B9+1,\"\")","v":13},{"$f":"IF(C9<DAY(DATE(Sheet3!$C$1,Sheet3!$C$2+1,1)-1),C9+1,\"\")","v":14},{"$f":"IF(D9<DAY(DATE(Sheet3!$C$1,Sheet3!$C$2+1,1)-1),D9+1,\"\")","v":15},{"$f":"IF(E9<DAY(DATE(Sheet3!$C$1,Sheet3!$C$2+1,1)-1),E9+1,\"\")","v":16},{"$f":"IF(F9<DAY(DATE(Sheet3!$C$1,Sheet3!$C$2+1,1)-1),F9+1,\"\")","v":17},{"$f":"IF(G9<DAY(DATE(Sheet3!$C$1,Sheet3!$C$2+1,1)-1),G9+1,\"\")","v":18}]
[null,{"$f":"IF(H9<DAY(DATE(Sheet3!$C$1,Sheet3!$C$2+1,1)-1),H9+1,\"\")","v":19},{"$f":"IF(B10<DAY(DATE(Sheet3!$C$1,Sheet3!$C$2+1,1)-1),B10+1,\"\")","v":20},{"$f":"IF(C10<DAY(DATE(Sheet3!$C$1,Sheet3!$C$2+1,1)-1),C10+1,\"\")","v":21},{"$f":"IF(D10<DAY(DATE(Sheet3!$C$1,Sheet3!$C$2+1,1)-1),D10+1,\"\")","v":22},{"$f":"IF(E10<DAY(DATE(Sheet3!$C$1,Sheet3!$C$2+1,1)-1),E10+1,\"\")","v":23},{"$f":"IF(F10<DAY(DATE(Sheet3!$C$1,Sheet3!$C$2+1,1)-1),F10+1,\"\")","v":24},{"$f":"IF(G10<DAY(DATE(Sheet3!$C$1,Sheet3!$C$2+1,1)-1),G10+1,\"\")","v":25}]
[null,{"$f":"IF(H10<DAY(DATE(Sheet3!$C$1,Sheet3!$C$2+1,1)-1),H10+1,\"\")","v":26},{"$f":"IF(B11<DAY(DATE(Sheet3!$C$1,Sheet3!$C$2+1,1)-1),B11+1,\"\")","v":27},{"$f":"IF(C11<DAY(DATE(Sheet3!$C$1,Sheet3!$C$2+1,1)-1),C11+1,\"\")","v":28},{"$f":"IF(D11<DAY(DATE(Sheet3!$C$1,Sheet3!$C$2+1,1)-1),D11+1,\"\")","v":29},{"$f":"IF(E11<DAY(DATE(Sheet3!$C$1,Sheet3!$C$2+1,1)-1),E11+1,\"\")","v":30},{"$f":"IF(F11<DAY(DATE(Sheet3!$C$1,Sheet3!$C$2+1,1)-1),F11+1,\"\")","v":31},{"$f":"IF(G11<DAY(DATE(Sheet3!$C$1,Sheet3!$C$2+1,1)-1),G11+1,\"\")","v":""}]
[null,{"$f":"IF(H11<DAY(DATE(Sheet3!$C$1,Sheet3!$C$2+1,1)-1),H11+1,\"\")","v":""},{"$f":"IF(B12<DAY(DATE(Sheet3!$C$1,Sheet3!$C$2+1,1)-1),B12+1,\"\")","v":""},{"$f":"IF(C12<DAY(DATE(Sheet3!$C$1,Sheet3!$C$2+1,1)-1),C12+1,\"\")","v":""},{"$f":"IF(D12<DAY(DATE(Sheet3!$C$1,Sheet3!$C$2+1,1)-1),D12+1,\"\")","v":""},{"$f":"IF(E12<DAY(DATE(Sheet3!$C$1,Sheet3!$C$2+1,1)-1),E12+1,\"\")","v":""},{"$f":"IF(F12<DAY(DATE(Sheet3!$C$1,Sheet3!$C$2+1,1)-1),F12+1,\"\")","v":""},{"$f":"IF(G12<DAY(DATE(Sheet3!$C$1,Sheet3!$C$2+1,1)-1),G12+1,\"\")","v":""}]
[]
[]
[null,"Visit TrumpExcel.com for Excel Tips and Templates"]

{"sheet":"Sheet3","index":1,"n_rows":2,"n_cols":3,"rows_kept":2,"cut":false,"hidden":true,"merged":[]}
["Selected Year",2005,{"$f":"B1+QUOTIENT(B2-1,12)","v":2015}]
["Selected Month",121,{"$f":"IF(MOD(B2,12)=0,12,MOD(B2,12))","v":1}]

{"sheet":"Comments","index":2,"n_rows":6,"n_cols":3,"rows_kept":6,"cut":false,"hidden":false,"merged":[]}
[]
[null,"Date","Tasks"]
[null,"2015-01-01","Pay Rent"]
[null,"2015-01-10","Submit Assignment"]
[null,"2015-01-15","Mom's Bday - Send a Gift"]
[null,"2015-01-23","Dental Checkup"]