{"text_format":"1","workbook":"xlsx","n_sheets":2,"sheets":["Veriler","Sonuçlar"],"not_rendered":{"charts":4,"images":0,"macros":1,"external_links":0,"defined_names":0,"comments":0,"pivot_tables":0},"unopened":[],"bounds":{"document_bytes":16777216,"sheet_cells":100000,"rows_first":2000,"rows_last":500,"rows_between":2000,"halvings":0,"cell_chars":16384,"cell_head_chars":4096},"cells_cut":0,"cells_raw":0,"read":"whole","date_system":"1900"}

{"sheet":"Veriler","index":0,"n_rows":38,"n_cols":3,"rows_kept":38,"cut":false,"hidden":false,"merged":[]}
[]
[null,"Term","Sales Qty"]
[null,1,95]
[null,2,405]
[null,3,470]
[null,4,641]
[null,5,643]
[null,6,693]
[null,7,694]
[null,8,737]
[null,9,759]
[null,10,828]
[null,11,909]
[null,12,911]
[null,13,964]
[null,14,992]
[null,15,1000]
[null,16,1054]
[null,17,1073]
[null,18,1127]
[null,19,1179]
[null,20,1208]
[null,21,1248]
[null,22,1286]
[null,23,1327]
[null,24,1354]
[null,25,1373]
[null,26,1378]
[null,27,1396]
[null,28,1432]
[null,29,1460]
[null,30,1465]
[null,31,1509]
[null,32,1533]
[null,33]
[null,34]
[null,35]
[null,36]

{"sheet":"Sonuçlar","index":1,"n_rows":259,"n_cols":10,"rows_kept":259,"cut":false,"hidden":false,"merged":[[1,11,5,19]]}
[]
[null,null,null,null,null,"Trend","Parameter 1","Parameter 2","Formula","Eligibility Rate"]
[null,null,null,null,null,"Linear",{"$f":"SLOPE($C$10:$C$41,$B$10:$B$41)","v":37.809200879765399},{"$f":"INTERCEPT($C$10:$C$41,$B$10:$B$41)","v":411.86693548387098},{"$f":"lineer_formul($B$10:$B$45,$C$10:$C$45)","v":"y = 37,8092 * x + 411,86694"},{"$f":"RSQ($C$10:$C$41,$B$10:$B$41)","v":0.95037460720532763}]
[null,null,null,null,null,"Logarithmic",{"$f":"INDEX(LINEST($C$10:$C$41,LN($B$10:$B$41)),1)","v":414.62208276238459},{"$f":"INDEX(LINEST($C$10:$C$41,LN($B$10:$B$41)),1,2)","v":-21.022844235766797},{"$f":"\"y = \"&TEXT(G4,\"#.0,0000\")&\" * ln(x) + \" &TEXT(H4,\"#.0,0000\")","v":"y = 414.62208 * ln(x) + -21.02284"},{"$f":"RSQ(($C$10:$C$41),LN($B$10:$B$41))","v":0.95130655660067454}]
[null,null,null,null,null,"Power",{"$f":"EXP(INDEX(LINEST(LN($C$10:$C$41),LN($B$10:$B$41),,),1,2))","v":201.68536595165259},{"$f":"INDEX(LINEST(LN($C$10:$C$41),LN($B$10:$B$41),,),1)","v":0.6030554766884042},{"$f":"\"y = \"&TEXT(G5,\"#.0,0000\")&\" * x^\" &TEXT(H5,\"#.0,0000\")","v":"y = 201.68537 * x^.60306"},{"$f":"RSQ(LN($C$10:$C$41),LN($B$10:$B$41))","v":0.90402703519577476}]
[null,null,null,null,null,"Exponential",{"$f":"EXP(INDEX(LINEST(LN($C$10:$C$41),$B$10:$B$41),1,2))","v":431.62443639725893},{"$f":"INDEX(LINEST(LN($C$10:$C$41),$B$10:$B$41),1)","v":4.7039529092403796E-2},{"$f":"\"y = \"&TEXT(G6,\"#.0,0000\")&\" * e^(\" &TEXT(H6,\"#.0,0000\")&\"x)\"","v":"y = 431.62444 * e^(.04704x)"},{"$f":"RSQ(LN($C$10:$C$41),$B$10:$B$41)","v":0.6608106176216183}]
[]
[]
[null,"Term","Sales Qty",null,"x","y (Real)","y (Linear)","y (Logarithmic Forecast)","y (Power Forecast)","y (Exponential Forecast)"]
[null,1,{"$f":"IF(Veriler!C3=\"\",\"-\",IF(Veriler!C3<=0,0.000001,Veriler!C3))","v":95},null,{"$f":"B10","v":1},{"$f":"C10","v":95},{"$f":"$G$3*E10+$H$3","v":449.67613636363637},{"$f":"$G$4*LN(E10)+$H$4","v":-21.022844235766797},{"$f":"$G$5*E10^$H$5","v":201.68536595165259},{"$f":" $G$6 *EXP($H$6* E10)","v":452.41295456460068}]
[null,2,{"$f":"IF(Veriler!C4=\"\",\"-\",IF(Veriler!C4<=0,0.000001,Veriler!C4))","v":405},null,2,405,487.48533724340177,266.3712834288724,306.34597244532074,474.20271930454408]
[null,3,{"$f":"IF(Veriler!C5=\"\",\"-\",IF(Veriler!C5<=0,0.000001,Veriler!C5))","v":470},null,3,470,525.29453812316717,434.48607104015497,391.20551911559477,497.04195409752572]
[null,4,{"$f":"IF(Veriler!C6=\"\",\"-\",IF(Veriler!C6<=0,0.000001,Veriler!C6))","v":641},null,4,641,563.10373900293257,553.7654110935116,465.3181176068378,520.98120503274697]
[null,5,{"$f":"IF(Veriler!C7=\"\",\"-\",IF(Veriler!C7<=0,0.000001,Veriler!C7))","v":643},null,5,643,600.91293988269797,646.28565509440421,532.34364831136145,546.07345267300502]
[null,6,{"$f":"IF(Veriler!C8=\"\",\"-\",IF(Veriler!C8<=0,0.000001,Veriler!C8))","v":693},null,6,693,638.72214076246337,721.88019870479411,594.21383705237236,572.37422930731861]
[null,7,{"$f":"IF(Veriler!C9=\"\",\"-\",IF(Veriler!C9<=0,0.000001,Veriler!C9))","v":694},null,7,694,676.53134164222877,785.79447463400948,652.10178475029238,599.94174185084375]
[null,8,{"$f":"IF(Veriler!C10=\"\",\"-\",IF(Veriler!C10<=0,0.000001,Veriler!C10))","v":737},null,8,737,714.34054252199417,841.15953875815069,706.78569345910842,628.83700066407278]
[null,9,{"$f":"IF(Veriler!C11=\"\",\"-\",IF(Veriler!C11<=0,0.000001,Veriler!C11))","v":759},null,9,759,752.14974340175957,889.99498631607673,758.8143912394155,{"$f":" $G$6 *EXP($H$6* E18)","v":659.12395457640878}]
[null,10,{"$f":"IF(Veriler!C12=\"\",\"-\",IF(Veriler!C12<=0,0.000001,Veriler!C12))","v":828},null,10,828,789.95894428152496,933.67978275904352,808.59278930592939,690.86963241294006]
[null,11,{"$f":"IF(Veriler!C13=\"\",\"-\",IF(Veriler!C13<=0,0.000001,Veriler!C13))","v":909},null,11,909,827.76814516129036,973.19748801797004,856.43015340035026,724.1442913376319]
[null,12,{"$f":"IF(Veriler!C14=\"\",\"-\",IF(Veriler!C14<=0,0.000001,Veriler!C14))","v":911},null,12,911,865.57734604105576,1009.2743263694333,902.56928108463376,759.02157234123524]
[null,13,{"$f":"IF(Veriler!C15=\"\",\"-\",IF(Veriler!C15<=0,0.000001,Veriler!C15))","v":964},null,13,964,903.38654692082116,1042.4618005349757,947.20509794565612,795.57866321803033]
[null,14,{"$f":"IF(Veriler!C16=\"\",\"-\",IF(Veriler!C16<=0,0.000001,Veriler!C16))","v":992},null,14,{"$f":"C23","v":992},{"$f":"$G$3*E23+$H$3","v":941.19574780058656},1073.1886022986484,990.49702708993516,833.89646939208899]
[null,15,{"$f":"IF(Veriler!C17=\"\",\"-\",IF(Veriler!C17<=0,0.000001,Veriler!C17))","v":1000},null,15,{"$f":"C24","v":1000},979.00494868035196,1101.794570370326,1032.57751152584,874.05979297111878]
[null,16,{"$f":"IF(Veriler!C18=\"\",\"-\",IF(Veriler!C18<=0,0.000001,Veriler!C18))","v":1054},null,16,{"$f":"C25","v":1054},1016.8141495601174,1128.55366642279,1073.5580618430924,916.15752042415716]
[null,17,{"$f":"IF(Veriler!C19=\"\",\"-\",IF(Veriler!C19<=0,0.000001,Veriler!C19))","v":1073},null,17,{"$f":"C26","v":1073},1054.6233504398829,1153.6899733870021,1113.5336569967508,960.28281929846651]
[null,18,{"$f":"IF(Veriler!C20=\"\",\"-\",IF(Veriler!C20<=0,0.000001,Veriler!C20))","v":1127},null,18,1127,1092.4325513196482,1177.3891139807158,1152.5860168033573,1006.5333444109947]
[null,19,{"$f":"IF(Veriler!C21=\"\",\"-\",IF(Veriler!C21<=0,0.000001,Veriler!C21))","v":1179},null,19,1179,1130.2417521994134,1199.8065778729722,1190.7860817857236,1055.0114539707251]
[null,20,{"$f":"IF(Veriler!C22=\"\",\"-\",IF(Veriler!C22<=0,0.000001,Veriler!C22))","v":1208},null,20,1208,1168.050953079179,1221.0739104236825,1228.1959238013296,1105.8244361102213]
[null,21,{"$f":"IF(Veriler!C23=\"\",\"-\",IF(Veriler!C23<=0,0.000001,Veriler!C23))","v":1248},null,21,1248,1205.8601539589445,1241.3033899099312,1264.8702399191282,1159.0847463277121]
[null,22,{"$f":"IF(Veriler!C24=\"\",\"-\",IF(Veriler!C24<=0,0.000001,Veriler!C24))","v":1286},null,22,1286,1243.6693548387098,1260.5916156826092,1300.8575358800131,1214.910256365205]
[null,23,{"$f":"IF(Veriler!C25=\"\",\"-\",IF(Veriler!C25<=0,0.000001,Veriler!C25))","v":1327},null,23,1327,1281.478555718475,1279.0222980621872,1336.2010747606976,1273.4245150734225]
[null,24,{"$f":"IF(Veriler!C26=\"\",\"-\",IF(Veriler!C26<=0,0.000001,Veriler!C26))","v":1354},null,24,1354,1319.2877565982405,1296.6684540340725,1370.9396455637122,1334.7570218408969]
[null,25,{"$f":"IF(Veriler!C27=\"\",\"-\",IF(Veriler!C27<=0,0.000001,Veriler!C27))","v":1373},null,25,1373,1357.0969574780061,1313.5941544245752,1405.1081919616508,1399.0435131923459]
[null,26,{"$f":"IF(Veriler!C28=\"\",\"-\",IF(Veriler!C28<=0,0.000001,Veriler!C28))","v":1378},null,26,1378,1394.9061583577713,1329.8559281996149,1438.7383311929864,1466.4262631906158]
[null,27,{"$f":"IF(Veriler!C29=\"\",\"-\",IF(Veriler!C29<=0,0.000001,Veriler!C29))","v":1396},null,27,1396,1432.7153592375366,1345.5039015919983,1471.8587857701091,1537.0543983070147]
[null,28,{"$f":"IF(Veriler!C30=\"\",\"-\",IF(Veriler!C30<=0,0.000001,Veriler!C30))","v":1432},null,28,1432,1470.5245601173021,1360.5827299632879,1504.4957453224633,1611.0842274568847]
[null,29,{"$f":"IF(Veriler!C31=\"\",\"-\",IF(Veriler!C31<=0,0.000001,Veriler!C31))","v":1460},null,29,1460,1508.3337609970674,1375.1323660703176,1536.6731719622912,1688.6795879308213]
[null,30,{"$f":"IF(Veriler!C32=\"\",\"-\",IF(Veriler!C32<=0,0.000001,Veriler!C32))","v":1465},null,30,1465,1546.1429618768329,1389.1886980349652,1568.4130596236789,1770.0122079871353]
[null,31,{"$f":"IF(Veriler!C33=\"\",\"-\",IF(Veriler!C33<=0,0.000001,Veriler!C33))","v":1509},null,31,1509,1583.9521627565985,1402.7840826672432,1599.7356556091124,1855.2620869080106]
[null,32,{"$f":"IF(Veriler!C34=\"\",\"-\",IF(Veriler!C34<=0,0.000001,Veriler!C34))","v":1533},null,32,1533,1621.7613636363637,1415.9477940874292,1630.6596508874823,1944.6178933604747]
[null,33,{"$f":"IF(Veriler!C35=\"\",\"-\",IF(Veriler!C35<=0,0.000001,Veriler!C35))","v":"-"},null,33,"-",1659.570564516129,1428.7064032938918,1661.2023443859937,2038.2773829438099]
[null,34,{"$f":"IF(Veriler!C36=\"\",\"-\",IF(Veriler!C36<=0,0.000001,Veriler!C36))","v":"-"},null,34,"-",1697.3797653958945,1441.0841010516413,1691.3797855072819,2136.447835847478]
[null,35,{"$f":"IF(Veriler!C37=\"\",\"-\",IF(Veriler!C37<=0,0.000001,Veriler!C37))","v":"-"},null,35,"-",1735.1889662756601,1453.1029739641804,1721.2068983107906,2239.3465155881581]
[null,36,{"$f":"IF(Veriler!C38=\"\",\"-\",IF(Veriler!C38<=0,0.000001,Veriler!C38))","v":"-"},null,{"$f":"B45","v":36},{"$f":"C45","v":"-"},{"$f":"$G$3*E45+$H$3","v":1772.9981671554253},{"$f":"$G$4*LN(E45)+$H$4","v":1464.783241645355},{"$f":"$G$5*E45^$H$5","v":1750.6975901719368},{"$f":" $G$6 *EXP($H$6* E45)","v":2347.2011498411443}]
[null,37,{"$f":"IF(Veriler!C39=\"\",\"-\",IF(Veriler!C39<=0,0.000001,Veriler!C39))","v":"-"},null,37,"-",1810.8073680351906,1476.1434613887839,1779.864847234936,2460.2504344302315]
[null,38,{"$f":"IF(Veriler!C40=\"\",\"-\",IF(Veriler!C40<=0,0.000001,Veriler!C40))","v":"-"},null,38,"-",1848.6165689149561,1487.2007055376114,1808.7208185766324,2578.7445615914894]
[null,39,{"$f":"IF(Veriler!C41=\"\",\"-\",IF(Veriler!C41<=0,0.000001,Veriler!C41))","v":"-"},null,39,"-",1886.4257697947216,1497.9707158108974,1837.2768906773124,2702.9457736800427]
[null,40,{"$f":"IF(Veriler!C42=\"\",\"-\",IF(Veriler!C42<=0,0.000001,Veriler!C42))","v":"-"},null,40,"-",1924.2349706744869,1508.4680380883217,1865.543753533866,2833.12894354527]
[null,41,{"$f":"IF(Veriler!C43=\"\",\"-\",IF(Veriler!C43<=0,0.000001,Veriler!C43))","v":"-"},null,41,"-",1962.0441715542522,1518.7061405493864,1893.5314595380153,2969.5821828588687]
[null,42,{"$f":"IF(Veriler!C44=\"\",\"-\",IF(Veriler!C44<=0,0.000001,Veriler!C44))","v":"-"},null,42,"-",1999.8533724340177,1528.6975175745704,1921.2494760678815,3112.6074797421011]
[null,43,{"$f":"IF(Veriler!C45=\"\",\"-\",IF(Veriler!C45<=0,0.000001,Veriler!C45))","v":"-"},null,43,"-",2037.6625733137832,1538.4537814192199,1948.7067325973373,3262.5213671033534]
[null,44,{"$f":"IF(Veriler!C46=\"\",\"-\",IF(Veriler!C46<=0,0.000001,Veriler!C46))","v":"-"},null,44,"-",2075.4717741935483,1547.9857433472482,1975.9116630083936,3419.6556231651343]
[null,45,{"$f":"IF(Veriler!C47=\"\",\"-\",IF(Veriler!C47<=0,0.000001,Veriler!C47))","v":"-"},null,45,"-",2113.280975073314,1557.3034856462477,2002.8722436926278,3584.3580057308668]
[null,46,{"$f":"IF(Veriler!C48=\"\",\"-\",IF(Veriler!C48<=0,0.000001,Veriler!C48))","v":"-"},null,46,"-",2151.0901759530793,1566.4164257268264,2029.5960279447067,3756.9930218165]
[null,47,{"$f":"IF(Veriler!C49=\"\",\"-\",IF(Veriler!C49<=0,0.000001,Veriler!C49))","v":"-"},null,47,"-",2188.8993768328446,1575.3333733278575,2056.090177081328,3937.9427343502107]
[null,48,{"$f":"IF(Veriler!C50=\"\",\"-\",IF(Veriler!C50<=0,0.000001,Veriler!C50))","v":"-"},null,48,"-",2226.7085777126103,1584.0625816987117,2082.3614886601918,4127.6076077255539]
[null,49,{"$f":"IF(Veriler!C51=\"\",\"-\",IF(Veriler!C51<=0,0.000001,Veriler!C51))","v":"-"},null,49,"-",2264.5177785923752,1592.6117935037857,2108.4164221238198,4326.4073940793687]
[null,50,{"$f":"IF(Veriler!C52=\"\",\"-\",IF(Veriler!C52<=0,0.000001,Veriler!C52))","v":"-"},null,50,"-",2302.3269794721409,1600.9882820892144,2134.2611221508469,4534.7820622558529]
[null,51,{"$f":"IF(Veriler!C53=\"\",\"-\",IF(Veriler!C53<=0,0.000001,Veriler!C53))","v":"-"},null,51,"-",2340.1361803519067,1609.1988886629238,2159.9014399613216,4753.1927715127658]
[null,52,{"$f":"IF(Veriler!C54=\"\",\"-\",IF(Veriler!C54<=0,0.000001,Veriler!C54))","v":"-"},null,52,"-",2377.9453812316715,1617.2500558642541,2185.3429527917701,4982.122892124672]
[null,53,{"$f":"IF(Veriler!C55=\"\",\"-\",IF(Veriler!C55<=0,0.000001,Veriler!C55))","v":"-"},null,53,"-",2415.7545821114372,1625.1478581358674,2210.5909817293359,5222.0790751419345]
[null,54,{"$f":"IF(Veriler!C56=\"\",\"-\",IF(Veriler!C56<=0,0.000001,Veriler!C56))","v":"-"},null,54,"-",2453.5637829912025,1632.8980292566375,2235.6506080714898,5473.5923736729901]
[null,55,{"$f":"IF(Veriler!C57=\"\",\"-\",IF(Veriler!C57<=0,0.000001,Veriler!C57))","v":"-"},null,55,"-",2491.3729838709678,1640.5059873481412,2260.5266883582021,5737.219418171454]
[null,56,{"$f":"IF(Veriler!C58=\"\",\"-\",IF(Veriler!C58<=0,0.000001,Veriler!C58))","v":"-"},null,56,"-",2529.1821847507335,1647.9768576279271,2285.2238682063944,6013.5436483290605]
[null,57,{"$f":"IF(Veriler!C59=\"\",\"-\",IF(Veriler!C59<=0,0.000001,Veriler!C59))","v":"-"},null,57,"-",2566.9913856304984,1655.3154931488941,2309.7465950617334,6303.1766043008365]
[null,58,{"$f":"IF(Veriler!C60=\"\",\"-\",IF(Veriler!C60<=0,0.000001,Veriler!C60))","v":"-"},null,58,"-",2604.8005865102641,1662.5264937349566,2334.0991299699513,6606.7592801201245]
[null,59,{"$f":"IF(Veriler!C61=\"\",\"-\",IF(Veriler!C61<=0,0.000001,Veriler!C61))","v":"-"},null,59,"-",2642.6097873900299,1669.6142232980326,2358.2855584586355,6924.9635422986948]
[null,60,{"$f":"IF(Veriler!C62=\"\",\"-\",IF(Veriler!C62<=0,0.000001,Veriler!C62))","v":"-"},null,60,"-",2680.4189882697947,1676.5828256996042,2382.3098006105961,7258.4936167515625]
[null,61,{"$f":"IF(Veriler!C63=\"\",\"-\",IF(Veriler!C63<=0,0.000001,Veriler!C63))","v":"-"},null,61,"-",2718.2281891495604,1683.4362393012236,2406.1756204013286,7608.0876473372055]
[null,62,{"$f":"IF(Veriler!C64=\"\",\"-\",IF(Veriler!C64<=0,0.000001,Veriler!C64))","v":"-"},null,62,"-",2756.0373900293262,1690.1782103318824,2429.8866343654554,7974.519329462425]
[null,63,{"$f":"IF(Veriler!C65=\"\",\"-\",IF(Veriler!C65<=0,0.000001,Veriler!C65))","v":"-"},null,63,"-",2793.846590909091,1696.8123051858529,2453.4463196504162,8358.5996223672664]
[null,64,{"$f":"IF(Veriler!C66=\"\",\"-\",IF(Veriler!C66<=0,0.000001,Veriler!C66))","v":"-"},null,64,"-",2831.6557917888567,1703.3419217520682,2476.8580215097136,8761.1785438794632]
[null,65,{"$f":"IF(Veriler!C67=\"\",\"-\",IF(Veriler!C67<=0,0.000001,Veriler!C67))","v":"-"},null,65,"-",2869.4649926686216,1709.7702998651466,2500.124960282868,9183.1470516104127]
[null,66,{"$f":"IF(Veriler!C68=\"\",\"-\",IF(Veriler!C68<=0,0.000001,Veriler!C68))","v":"-"},null,66,"-",2907.2741935483873,1716.1005309585307,2523.2502379045513,9625.439014756048]
[null,67,{"$f":"IF(Veriler!C69=\"\",\"-\",IF(Veriler!C69<=0,0.000001,Veriler!C69))","v":"-"},null,67,"-",2945.083394428153,1722.3355669917419,2546.2368439813199,10089.033280866435]
[null,68,{"$f":"IF(Veriler!C70=\"\",\"-\",IF(Veriler!C70<=0,0.000001,Veriler!C70))","v":"-"},null,68,"-",2982.8925953079179,1728.4782287162805,2569.0876614706644,10574.955842158055]
[null,69,{"$f":"IF(Veriler!C71=\"\",\"-\",IF(Veriler!C71<=0,0.000001,Veriler!C71))","v":"-"},null,69,"-",3020.7017961876836,1734.5312133381092,2591.8054719938459,11084.282106163189]
[null,70,{"$f":"IF(Veriler!C72=\"\",\"-\",IF(Veriler!C72<=0,0.000001,Veriler!C72))","v":"-"},null,70,"-",3058.5109970674494,1740.4971016288198,2614.3929608111125,11618.139275741594]
[null,71,{"$f":"IF(Veriler!C73=\"\",\"-\",IF(Veriler!C73<=0,0.000001,Veriler!C73))","v":"-"},null,71,"-",3096.3201979472142,1746.3783645324088,2636.8527214852306,12177.708843721679]
[null,72,{"$f":"IF(Veriler!C74=\"\",\"-\",IF(Veriler!C74<=0,0.000001,Veriler!C74))","v":"-"},null,72,"-",3134.1293988269799,1752.1773693099942,2659.1872602569797,12764.229207692229]
[null,73,{"$f":"IF(Veriler!C75=\"\",\"-\",IF(Veriler!C75<=0,0.000001,Veriler!C75))","v":"-"},null,73,"-",3171.9385997067448,1757.8963852607158,2681.3990001541288,13378.998410731516]
[null,74,{"$f":"IF(Veriler!C76=\"\",\"-\",IF(Veriler!C76<=0,0.000001,Veriler!C76))","v":"-"},null,74,"-",3209.7478005865105,1763.5375890534233,2703.4902848535648,14023.377014139282]
[null,75,{"$f":"IF(Veriler!C77=\"\",\"-\",IF(Veriler!C77<=0,0.000001,Veriler!C77))","v":"-"},null,75,"-",3247.5570014662762,1769.1030697004969,2725.4633823145177,14698.791108529434]
[null,76,{"$f":"IF(Veriler!C78=\"\",\"-\",IF(Veriler!C78<=0,0.000001,Veriler!C78))","v":"-"},null,76,"-",3285.3662023460411,1774.5948332022506,2747.3204881993315,15406.735469947351]
[null,77,{"$f":"IF(Veriler!C79=\"\",\"-\",IF(Veriler!C79<=0,0.000001,Veriler!C79))","v":"-"},null,77,"-",3323.1754032258068,1780.0148068877463,2769.0637290967957,16148.776867996572]
[null,78,{"$f":"IF(Veriler!C80=\"\",\"-\",IF(Veriler!C80<=0,0.000001,Veriler!C80))","v":"-"},null,78,"-",3360.9846041055725,1785.3648434755366,2790.6951655618855,16926.557533296327]
[null,79,{"$f":"IF(Veriler!C81=\"\",\"-\",IF(Veriler!C81<=0,0.000001,Veriler!C81))","v":"-"},null,79,"-",3398.7938049853374,1790.6467248757383,2812.2167949845552,17741.798791943755]
[null,80,{"$f":"IF(Veriler!C82=\"\",\"-\",IF(Veriler!C82<=0,0.000001,Veriler!C82))","v":"-"},null,80,"-",3436.6030058651031,1795.8621657529609,2833.6305542992372,18596.304875024241]
[null,81,{"$f":"IF(Veriler!C83=\"\",\"-\",IF(Veriler!C83<=0,0.000001,Veriler!C83))","v":"-"},null,81,"-",3474.4122067448679,1801.0128168679203,2854.9383225457896,19491.966911601001]
[null,82,{"$f":"IF(Veriler!C84=\"\",\"-\",IF(Veriler!C84<=0,0.000001,Veriler!C84))","v":"-"},null,82,"-",3512.2214076246337,1806.1002682140256,2876.1419232917219,20430.767114020717]
[null,83,{"$f":"IF(Veriler!C85=\"\",\"-\",IF(Veriler!C85<=0,0.000001,Veriler!C85))","v":"-"},null,83,"-",3550.0306085043994,1811.1260519638602,2897.2431269248787,21414.783164797878]
[null,84,{"$f":"IF(Veriler!C86=\"\",\"-\",IF(Veriler!C86<=0,0.000001,Veriler!C86))","v":"-"},null,84,"-",3587.8398093841643,1816.0916452392094,2918.2436528249032,22446.192814786613]
[null,85,{"$f":"IF(Veriler!C87=\"\",\"-\",IF(Veriler!C87<=0,0.000001,Veriler!C87))","v":"-"},null,85,"-",3625.64901026393,1820.9984727171732,2939.1451714213249,23527.278702816307]
[null,86,{"$f":"IF(Veriler!C88=\"\",\"-\",IF(Veriler!C88<=0,0.000001,Veriler!C88))","v":"-"},null,86,"-",3663.4582111436957,1825.8479090838589,2959.9493061453982,24660.433407457396]
[null,87,{"$f":"IF(Veriler!C89=\"\",\"-\",IF(Veriler!C89<=0,0.000001,Veriler!C89))","v":"-"},null,87,"-",3701.2674120234606,1830.6412813462393,2980.6576352823877,25848.164742097604]
[null,88,{"$f":"IF(Veriler!C90=\"\",\"-\",IF(Veriler!C90<=0,0.000001,Veriler!C90))","v":"-"},null,88,"-",3739.0766129032263,1835.3798710118876,3001.2716937304272,27093.101305047396]
[null,89,{"$f":"IF(Veriler!C91=\"\",\"-\",IF(Veriler!C91<=0,0.000001,Veriler!C91))","v":"-"},null,89,"-",3776.8858137829911,1840.0649161455619,3021.7929746716973,28397.998296957328]
[null,90,{"$f":"IF(Veriler!C92=\"\",\"-\",IF(Veriler!C92<=0,0.000001,Veriler!C92))","v":"-"},null,90,"-",3814.6950146627569,1844.6976133108869,3042.2229311612191,29765.743618422599]
[null,91,{"$f":"IF(Veriler!C93=\"\",\"-\",IF(Veriler!C93<=0,0.000001,Veriler!C93))","v":"-"},null,91,"-",3852.5042155425226,1849.2791194047518,3062.5629776381729,31199.364261268922]
[null,92,{"$f":"IF(Veriler!C94=\"\",\"-\",IF(Veriler!C94<=0,0.000001,Veriler!C94))","v":"-"},null,92,"-",3890.3134164222874,1853.8105533914656,3082.8144913643737,32702.033007664802]
[null,93,{"$f":"IF(Veriler!C95=\"\",\"-\",IF(Veriler!C95<=0,0.000001,Veriler!C95))","v":"-"},null,93,"-",3928.1226173020532,1858.2929979431651,3102.9788137941064,34277.075451886252]
[null,94,{"$f":"IF(Veriler!C96=\"\",\"-\",IF(Veriler!C96<=0,0.000001,Veriler!C96))","v":"-"},null,94,"-",3965.9318181818189,1862.7275009924967,3123.0572518793601,35927.977360273697]
[null,95,{"$f":"IF(Veriler!C97=\"\",\"-\",IF(Veriler!C97<=0,0.000001,Veriler!C97))","v":"-"},null,95,"-",4003.7410190615838,1867.1150772031433,3143.0510793141125,37658.392385669671]
[null,96,{"$f":"IF(Veriler!C98=\"\",\"-\",IF(Veriler!C98<=0,0.000001,Veriler!C98))","v":"-"},null,96,"-",4041.5502199413495,1871.4567093633507,3162.9615377211503,39472.150153410694]
[null,97,{"$f":"IF(Veriler!C99=\"\",\"-\",IF(Veriler!C99<=0,0.000001,Veriler!C99))","v":"-"},null,97,"-",4079.3594208211143,1875.7533497072523,3182.7898377846282,41373.264736768055]
[null,98,{"$f":"IF(Veriler!C100=\"\",\"-\",IF(Veriler!C100<=0,0.000001,Veriler!C100))","v":"-"},null,98,"-",4117.1686217008801,1880.0059211684249,3202.5371603314038,43365.943540594926]
[null,99,{"$f":"IF(Veriler!C101=\"\",\"-\",IF(Veriler!C101<=0,0.000001,Veriler!C101))","v":"-"},null,99,"-",4154.9778225806458,1884.2153185698135,3222.2046573639404,45454.596612840884]
[null,100,{"$f":"IF(Veriler!C102=\"\",\"-\",IF(Veriler!C102<=0,0.000001,Veriler!C102))","v":"-"},null,{"$f":"B109","v":100},{"$f":"C109","v":"-"},{"$f":"$G$3*E109+$H$3","v":4192.7870234604106},{"$f":"$G$4*LN(E109)+$H$4","v":1888.3824097538538},{"$f":"$G$5*E109^$H$5","v":3241.793453047434},{"$f":" $G$6 *EXP($H$6* E109)","v":47643.846404540687}]
[null,101,{"$f":"IF(Veriler!C103=\"\",\"-\",IF(Veriler!C103<=0,0.000001,Veriler!C103))","v":"-"},null,101,"-",4230.5962243401764,1892.5080366563691,3261.3046446535973,49938.537999877612]
[null,102,{"$f":"IF(Veriler!C104=\"\",\"-\",IF(Veriler!C104<=0,0.000001,Veriler!C104))","v":"-"},null,102,"-",4268.4054252199421,1896.5930163275627,3280.7393034634674,52343.749838962278]
[null,103,{"$f":"IF(Veriler!C105=\"\",\"-\",IF(Veriler!C105<=0,0.000001,Veriler!C105))","v":"-"},null,103,"-",4306.2146260997069,1900.6381419032043,3300.0984756313496,54864.804957057029]
[null,104,{"$f":"IF(Veriler!C106=\"\",\"-\",IF(Veriler!C106<=0,0.000001,Veriler!C106))","v":"-"},null,104,"-",4344.0238269794727,1904.6441835288931,3319.3831830119343,57507.282765119977]
[null,105,{"$f":"IF(Veriler!C107=\"\",\"-\",IF(Veriler!C107<=0,0.000001,Veriler!C107))","v":"-"},null,105,"-",4381.8330278592375,1908.6118892401021,3338.5944239525438,60277.031397741041]
[null,106,{"$f":"IF(Veriler!C108=\"\",\"-\",IF(Veriler!C108<=0,0.000001,Veriler!C108))","v":"-"},null,106,"-",4419.6422287390033,1912.5419858005064,3357.7331740522368,63180.18065579667]
[null,107,{"$f":"IF(Veriler!C109=\"\",\"-\",IF(Veriler!C109<=0,0.000001,Veriler!C109))","v":"-"},null,107,"-",4457.451429618769,1916.4351795009547,3376.8003868894912,66223.155572467294]
[null,108,{"$f":"IF(Veriler!C110=\"\",\"-\",IF(Veriler!C110<=0,0.000001,Veriler!C110))","v":"-"},null,108,"-",4495.2606304985338,1920.292156921277,3395.7969947200399,69412.690632641345]
[null,109,{"$f":"IF(Veriler!C111=\"\",\"-\",IF(Veriler!C111<=0,0.000001,Veriler!C111))","v":"-"},null,109,"-",4533.0698313782996,1924.1135856569829,3414.7239091463316,72755.844677174304]
[null,110,{"$f":"IF(Veriler!C112=\"\",\"-\",IF(Veriler!C112<=0,0.000001,Veriler!C112))","v":"-"},null,110,"-",4570.8790322580653,1927.9001150127804,3433.5820217600658,76260.016524987979]
[null,111,{"$f":"IF(Veriler!C113=\"\",\"-\",IF(Veriler!C113<=0,0.000001,Veriler!C113))","v":"-"},null,111,"-",4608.6882331378301,1931.6523766647056,3452.3722047590445,79932.961347584569]
[null,112,{"$f":"IF(Veriler!C114=\"\",\"-\",IF(Veriler!C114<=0,0.000001,Veriler!C114))","v":"-"},null,112,"-",4646.4974340175959,1935.370985292566,3471.095311539676,83782.807832212988]
[null,113,{"$f":"IF(Veriler!C115=\"\",\"-\",IF(Veriler!C115<=0,0.000001,Veriler!C115))","v":"-"},null,113,"-",4684.3066348973616,1939.0565391842702,3489.7521772662221,87818.07617167235]
[null,114,{"$f":"IF(Veriler!C116=\"\",\"-\",IF(Veriler!C116<=0,0.000001,Veriler!C116))","v":"-"},null,114,"-",4722.1158357771264,1942.7096208135333,3508.3436194179517,92047.696920566974]
[null,115,{"$f":"IF(Veriler!C117=\"\",\"-\",IF(Veriler!C117<=0,0.000001,Veriler!C117))","v":"-"},null,115,"-",4759.9250366568922,1946.3307973923584,3526.8704383152285,96481.030759742876]
[null,116,{"$f":"IF(Veriler!C118=\"\",\"-\",IF(Veriler!C118<=0,0.000001,Veriler!C118))","v":"-"},null,116,"-",4797.734237536657,1949.9206213995958,3545.3334176254989,101127.88921264741]
[null,117,{"$f":"IF(Veriler!C119=\"\",\"-\",IF(Veriler!C119<=0,0.000001,Veriler!C119))","v":"-"},null,117,"-",4835.5434384164228,1953.4796310868192,3563.73332485016,105998.55635946093]
[null,118,{"$f":"IF(Veriler!C120=\"\",\"-\",IF(Veriler!C120<=0,0.000001,Veriler!C120))","v":"-"},null,118,"-",4873.3526392961885,1957.0083509626718,3582.0709117931292,111103.81159705494]
[null,119,{"$f":"IF(Veriler!C121=\"\",\"-\",IF(Veriler!C121<=0,0.000001,Veriler!C121))","v":"-"},null,119,"-",4911.1618401759533,1960.5072922567783,3600.3469150120127,116454.95349514825]
[null,120,{"$f":"IF(Veriler!C122=\"\",\"-\",IF(Veriler!C122<=0,0.000001,Veriler!C122))","v":"-"},null,120,"-",4948.9710410557191,1963.9769533642434,3618.5620562526055,122063.82480145824]
[null,121,{"$f":"IF(Veriler!C123=\"\",\"-\",IF(Veriler!C123<=0,0.000001,Veriler!C123))","v":"-"},null,121,"-",4986.7802419354848,1967.4178202717069,3636.7170428675199,127942.83865118584]
[null,122,{"$f":"IF(Veriler!C124=\"\",\"-\",IF(Veriler!C124<=0,0.000001,Veriler!C124))","v":"-"},null,122,"-",5024.5894428152496,1970.8303669658628,3654.8125682195932,134105.00603883914]
[null,123,{"$f":"IF(Veriler!C125=\"\",\"-\",IF(Veriler!C125<=0,0.000001,Veriler!C125))","v":"-"},null,123,"-",5062.3986436950154,1974.2150558253079,3672.8493120708213,140563.96461319565]
[null,124,{"$f":"IF(Veriler!C126=\"\",\"-\",IF(Veriler!C126<=0,0.000001,Veriler!C126))","v":"-"},null,124,"-",5100.2078445747811,1977.5723379965216,3690.8279409573775,147334.00885912796]
[null,125,{"$f":"IF(Veriler!C127=\"\",\"-\",IF(Veriler!C127<=0,0.000001,Veriler!C127))","v":"-"},null,125,"-",5138.017045454546,1980.9026537547466,3708.7491085513602,154430.12173309011]
[null,126,{"$f":"IF(Veriler!C128=\"\",\"-\",IF(Veriler!C128<=0,0.000001,Veriler!C128))","v":"-"},null,126,"-",5175.8262463343117,1984.2064328504921,3726.6134560098521,161868.00782227889]
[null,127,{"$f":"IF(Veriler!C129=\"\",\"-\",IF(Veriler!C129<=0,0.000001,Veriler!C129))","v":"-"},null,127,"-",5213.6354472140765,1987.4840948423418,3744.421612311799,169664.12810085324]
[null,128,{"$f":"IF(Veriler!C130=\"\",\"-\",IF(Veriler!C130<=0,0.000001,Veriler!C130))","v":"-"},null,128,"-",5251.4446480938423,1990.7360494167074,3762.1741945832487,177835.73636013287]
[null,129,{"$f":"IF(Veriler!C131=\"\",\"-\",IF(Veriler!C131<=0,0.000001,Veriler!C131))","v":"-"},null,129,"-",5289.253848973608,1993.9626966951416,3779.871808411438,186400.91739340179]
[null,130,{"$f":"IF(Veriler!C132=\"\",\"-\",IF(Veriler!C132<=0,0.000001,Veriler!C132))","v":"-"},null,130,"-",5327.0630498533728,1997.1644275297858,3797.5150481481828,195378.62701982216]
[null,131,{"$f":"IF(Veriler!C133=\"\",\"-\",IF(Veriler!C133<=0,0.000001,Veriler!C133))","v":"-"},null,131,"-",5364.8722507331386,2000.3416237874967,3815.104497203034,204788.73403603747]
[null,132,{"$f":"IF(Veriler!C134=\"\",\"-\",IF(Veriler!C134<=0,0.000001,Veriler!C134))","v":"-"},null,132,"-",5402.6814516129034,2003.4946586231699,3832.6407283265894,214652.06418831079]
[null,133,{"$f":"IF(Veriler!C135=\"\",\"-\",IF(Veriler!C135<=0,0.000001,Veriler!C135))","v":"-"},null,133,"-",5440.4906524926691,2006.6238967427485,3850.1243038844063,224990.44626251093]
[null,134,{"$f":"IF(Veriler!C136=\"\",\"-\",IF(Veriler!C136<=0,0.000001,Veriler!C136))","v":"-"},null,134,"-",5478.2998533724349,2009.7296946563811,3867.5557761218447,235826.76039395106]
[null,135,{"$f":"IF(Veriler!C137=\"\",\"-\",IF(Veriler!C137<=0,0.000001,Veriler!C137))","v":"-"},null,135,"-",5516.1090542521997,2012.8124009221694,3884.9356874202617,247184.98870399699]
[null,136,{"$f":"IF(Veriler!C138=\"\",\"-\",IF(Veriler!C138<=0,0.000001,Veriler!C138))","v":"-"},null,136,"-",5553.9182551319655,2015.8723563809197,3902.2645705448472,259090.26837550697]
[null,137,{"$f":"IF(Veriler!C139=\"\",\"-\",IF(Veriler!C139<=0,0.000001,Veriler!C139))","v":"-"},null,137,"-",5591.7274560117312,2018.9098943822958,3919.5429488844698,271568.94728456758]
[null,138,{"$f":"IF(Veriler!C140=\"\",\"-\",IF(Veriler!C140<=0,0.000001,Veriler!C140))","v":"-"},null,138,"-",5629.536656891496,2021.9253410027484,3936.7713366838475,284648.64231164672]
[null,139,{"$f":"IF(Veriler!C141=\"\",\"-\",IF(Veriler!C141<=0,0.000001,Veriler!C141))","v":"-"},null,139,"-",5667.3458577712618,2024.9190152555761,3953.9502392683034,298358.3004612113]
[null,140,{"$f":"IF(Veriler!C142=\"\",\"-\",IF(Veriler!C142<=0,0.000001,Veriler!C142))","v":"-"},null,140,"-",5705.1550586510275,2027.8912292934585,3971.0801532614541,312728.26292507525]
[null,141,{"$f":"IF(Veriler!C143=\"\",\"-\",IF(Veriler!C143<=0,0.000001,Veriler!C143))","v":"-"},null,141,"-",5742.9642595307923,2030.8422886037795,3988.1615667960427,327790.33223126153]
[null,142,{"$f":"IF(Veriler!C144=\"\",\"-\",IF(Veriler!C144<=0,0.000001,Veriler!C144))","v":"-"},null,142,"-",5780.7734604105581,2033.7724921970482,4005.1949597182193,343577.84262698184]
[null,143,{"$f":"IF(Veriler!C145=\"\",\"-\",IF(Veriler!C145<=0,0.000001,Veriler!C145))","v":"-"},null,143,"-",5818.5826612903229,2036.6821327887121,4022.1808037855062,360125.73385150288]
[null,144,{"$f":"IF(Veriler!C146=\"\",\"-\",IF(Veriler!C146<=0,0.000001,Veriler!C146))","v":"-"},null,144,"-",5856.3918621700886,2039.5714969746334,4039.1195628586843,377470.62846217031]
[null,145,{"$f":"IF(Veriler!C147=\"\",\"-\",IF(Veriler!C147<=0,0.000001,Veriler!C147))","v":"-"},null,145,"-",5894.2010630498544,2042.4408654004885,4056.0116930878162,395650.91288471757]
[null,146,{"$f":"IF(Veriler!C148=\"\",\"-\",IF(Veriler!C148<=0,0.000001,Veriler!C148))","v":"-"},null,146,"-",5932.0102639296192,2045.2905129253547,4072.8576430926555,414706.82236723608]
[null,147,{"$f":"IF(Veriler!C149=\"\",\"-\",IF(Veriler!C149<=0,0.000001,Veriler!C149))","v":"-"},null,147,"-",5969.819464809385,2048.1207087797075,4089.6578541376089,434680.53002582438]
[null,148,{"$f":"IF(Veriler!C150=\"\",\"-\",IF(Veriler!C150<=0,0.000001,Veriler!C150))","v":"-"},null,148,"-",6007.6286656891498,2050.9317167180625,4106.4127603014922,455616.24017897889]
[null,149,{"$f":"IF(Veriler!C151=\"\",\"-\",IF(Veriler!C151<=0,0.000001,Veriler!C151))","v":"-"},null,149,"-",6045.4378665689155,2053.7237951664802,4123.1227886422348,477560.28617729002]
[null,150,{"$f":"IF(Veriler!C152=\"\",\"-\",IF(Veriler!C152<=0,0.000001,Veriler!C152))","v":"-"},null,150,"-",6083.2470674486813,2056.4971973651363,4139.7883593567321,500561.23294495669]
[null,151,{"$f":"IF(Veriler!C153=\"\",\"-\",IF(Veriler!C153<=0,0.000001,Veriler!C153))","v":"-"},null,151,"-",6121.0562683284461,2059.2521715061539,4156.4098859360329,524669.98446004908]
[null,152,{"$f":"IF(Veriler!C154=\"\",\"-\",IF(Veriler!C154<=0,0.000001,Veriler!C154))","v":"-"},null,152,"-",6158.8654692082118,2061.98896086689,4172.9877753159881,549939.89641139156]
[null,153,{"$f":"IF(Veriler!C155=\"\",\"-\",IF(Veriler!C155<=0,0.000001,Veriler!C155))","v":"-"},null,153,"-",6196.6746700879776,2064.7078039388452,4189.522428023568,576426.89428139152]
[null,154,{"$f":"IF(Veriler!C156=\"\",\"-\",IF(Veriler!C156<=0,0.000001,Veriler!C156))","v":"-"},null,154,"-",6234.4838709677424,2067.4089345523853,4206.0142383189768,604189.59711614077]
[null,155,{"$f":"IF(Veriler!C157=\"\",\"-\",IF(Veriler!C157<=0,0.000001,Veriler!C157))","v":"-"},null,155,"-",6272.2930718475081,2070.0925819974145,4222.4635943337016,633289.44725670957]
[null,156,{"$f":"IF(Veriler!C158=\"\",\"-\",IF(Veriler!C158<=0,0.000001,Veriler!C158))","v":"-"},null,156,"-",6310.1022727272739,2072.7589711401761,4238.8708782046679,663790.84631875169]
[null,157,{"$f":"IF(Veriler!C159=\"\",\"-\",IF(Veriler!C159<=0,0.000001,Veriler!C159))","v":"-"},null,157,"-",6347.9114736070387,2075.4083225363192,4255.2364662046039,695761.29772135057]
[null,158,{"$f":"IF(Veriler!C160=\"\",\"-\",IF(Veriler!C160<=0,0.000001,Veriler!C160))","v":"-"},null,158,"-",6385.7206744868045,2078.0408525403773,4271.5607288687752,729271.55608054413]
[null,159,{"$f":"IF(Veriler!C161=\"\",\"-\",IF(Veriler!C161<=0,0.000001,Veriler!C161))","v":"-"},null,159,"-",6423.5298753665693,2080.6567734117889,4287.8440311181694,764395.78379816213]
[null,160,{"$f":"IF(Veriler!C162=\"\",\"-\",IF(Veriler!C162<=0,0.000001,Veriler!C162))","v":"-"},null,160,"-",6461.339076246335,2083.2562934176003,4304.0867323793073,801211.71519251505]
[null,161,{"$f":"IF(Veriler!C163=\"\",\"-\",IF(Veriler!C163<=0,0.000001,Veriler!C163))","v":"-"},null,161,"-",6499.1482771261008,2085.839616931964,4320.2891867007575,839800.828534181]
[null,162,{"$f":"IF(Veriler!C164=\"\",\"-\",IF(Veriler!C164<=0,0.000001,Veriler!C164))","v":"-"},null,162,"-",6536.9574780058656,2088.4069445325595,4336.4517428664522,880248.52636763523]
[null,163,{"$f":"IF(Veriler!C165=\"\",\"-\",IF(Veriler!C165<=0,0.000001,Veriler!C165))","v":"-"},null,163,"-",6574.7666788856313,2090.9584730940478,4352.5747445059678,922644.32451778313]
[null,164,{"$f":"IF(Veriler!C166=\"\",\"-\",IF(Veriler!C166<=0,0.000001,Veriler!C166))","v":"-"},null,{"$f":"B173","v":164},{"$f":"C173","v":"-"},{"$f":"$G$3*E173+$H$3","v":6612.5758797653962},{"$f":"$G$4*LN(E173)+$H$4","v":2093.4943958786644},{"$f":"$G$5*E173^$H$5","v":4368.6585302017947},{"$f":" $G$6 *EXP($H$6* E173)","v":967082.05019969831}]
[null,165,{"$f":"IF(Veriler!C167=\"\",\"-\",IF(Veriler!C167<=0,0.000001,Veriler!C167))","v":"-"},null,165,"-",6650.3850806451619,2096.0149026240624,4384.7034335937669,1013660.0496700128]
[null,166,{"$f":"IF(Veriler!C168=\"\",\"-\",IF(Veriler!C168<=0,0.000001,Veriler!C168))","v":"-"},null,166,"-",6688.1942815249276,2098.5201796284991,4400.7097834807028,1062481.4058795096]
[null,167,{"$f":"IF(Veriler!C169=\"\",\"-\",IF(Veriler!C169<=0,0.000001,Veriler!C169))","v":"-"},null,167,"-",6726.0034824046925,2101.010409833465,4416.677903919337,1113654.1666086079]
[null,168,{"$f":"IF(Veriler!C170=\"\",\"-\",IF(Veriler!C170<=0,0.000001,Veriler!C170))","v":"-"},null,168,"-",6763.8126832844582,2103.4857729038486,4432.6081143206729,1167291.58359065]
[null,169,{"$f":"IF(Veriler!C171=\"\",\"-\",IF(Veriler!C171<=0,0.000001,Veriler!C171))","v":"-"},null,169,"-",6801.621884164224,2105.946445305718,4448.5007295438272,1223512.3631521794]
[null,170,{"$f":"IF(Veriler!C172=\"\",\"-\",IF(Veriler!C172<=0,0.000001,Veriler!C172))","v":"-"},null,170,"-",6839.4310850439888,2108.3926003818124,4464.3560599873908,1282440.9289249154]
[null,171,{"$f":"IF(Veriler!C173=\"\",\"-\",IF(Veriler!C173<=0,0.000001,Veriler!C173))","v":"-"},null,171,"-",6877.2402859237545,2110.8244084248163,4480.1744116784739,1344207.6972108546]
[null,172,{"$f":"IF(Veriler!C174=\"\",\"-\",IF(Veriler!C174<=0,0.000001,Veriler!C174))","v":"-"},null,172,"-",6915.0494868035203,2113.2420367484983,4495.9560863594452,1408949.3656098815]
[null,173,{"$f":"IF(Veriler!C175=\"\",\"-\",IF(Veriler!C175<=0,0.000001,Veriler!C175))","v":"-"},null,173,"-",6952.8586876832851,2115.6456497567924,4511.7013815724586,1476809.2155487009]
[null,174,{"$f":"IF(Veriler!C176=\"\",\"-\",IF(Veriler!C176<=0,0.000001,Veriler!C176))","v":"-"},null,174,"-",6990.6678885630508,2118.0354090108785,4527.410590741827,1547937.4293805873]
[null,175,{"$f":"IF(Veriler!C177=\"\",\"-\",IF(Veriler!C177<=0,0.000001,Veriler!C177))","v":"-"},null,175,"-",7028.4770894428157,2120.4114732943517,4543.0840032543356,1622491.4227577581]
[null,176,{"$f":"IF(Veriler!C178=\"\",\"-\",IF(Veriler!C178<=0,0.000001,Veriler!C178))","v":"-"},null,176,"-",7066.2862903225814,2122.7739986765264,4558.7219045375086,1700636.1930119453]
[null,177,{"$f":"IF(Veriler!C179=\"\",\"-\",IF(Veriler!C179<=0,0.000001,Veriler!C179))","v":"-"},null,177,"-",7104.0954912023471,2125.1231385739538,4574.3245761359685,1782544.6843141585]
[null,178,{"$f":"IF(Veriler!C180=\"\",\"-\",IF(Veriler!C180<=0,0.000001,Veriler!C180))","v":"-"},null,178,"-",7141.904692082112,2127.4590438102014,4589.8922957858458,1868398.1704218285]
[null,179,{"$f":"IF(Veriler!C181=\"\",\"-\",IF(Veriler!C181<=0,0.000001,Veriler!C181))","v":"-"},null,179,"-",7179.7138929618777,2129.7818626739581,4605.4253374874033,1958386.6558603432]
[null,180,{"$f":"IF(Veriler!C182=\"\",\"-\",IF(Veriler!C182<=0,0.000001,Veriler!C182))","v":"-"},null,180,"-",7217.5230938416425,2132.0917409755257,4620.9239715758404,2052709.296426879]
[null,181,{"$f":"IF(Veriler!C183=\"\",\"-\",IF(Veriler!C183<=0,0.000001,Veriler!C183))","v":"-"},null,181,"-",7255.3322947214083,2134.3888221017432,4636.3884647903924,2151574.8399471394]
[null,182,{"$f":"IF(Veriler!C184=\"\",\"-\",IF(Veriler!C184<=0,0.000001,Veriler!C184))","v":"-"},null,182,"-",7293.141495601174,2136.6732470693914,4651.8190803417374,2255202.0882604648]
[null,183,{"$f":"IF(Veriler!C185=\"\",\"-\",IF(Veriler!C185<=0,0.000001,Veriler!C185))","v":"-"},null,183,"-",7330.9506964809389,2138.9451545771453,4667.2160779778033,2363820.3814557088]
[null,184,{"$f":"IF(Veriler!C186=\"\",\"-\",IF(Veriler!C186<=0,0.000001,Veriler!C186))","v":"-"},null,184,"-",7368.7598973607046,2141.2046810561051,4682.5797140479517,2477670.1054296233]
[null,185,{"$f":"IF(Veriler!C187=\"\",\"-\",IF(Veriler!C187<=0,0.000001,Veriler!C187))","v":"-"},null,185,"-",7406.5690982404703,2143.451960718955,4697.9102415656744,2597003.2238909621]
[null,186,{"$f":"IF(Veriler!C188=\"\",\"-\",IF(Veriler!C188<=0,0.000001,Veriler!C188))","v":"-"},null,186,"-",7444.3782991202352,2145.6871256078039,4713.2079102697753,2722083.8359877542]
[null,187,{"$f":"IF(Veriler!C189=\"\",\"-\",IF(Veriler!C189<=0,0.000001,Veriler!C189))","v":"-"},null,187,"-",7482.1875000000009,2147.9103056407394,4728.4729666841049,2853188.7607918158]
[null,188,{"$f":"IF(Veriler!C190=\"\",\"-\",IF(Veriler!C190<=0,0.000001,Veriler!C190))","v":"-"},null,188,"-",7519.9967008797666,2150.1216286571362,4743.7056541759166,2990608.1499340627]
[null,189,{"$f":"IF(Veriler!C191=\"\",\"-\",IF(Veriler!C191<=0,0.000001,Veriler!C191))","v":"-"},null,189,"-",7557.8059017595315,2152.3212204617748,4758.9062130128341,3134646.1297464101]
[null,190,{"$f":"IF(Veriler!C192=\"\",\"-\",IF(Veriler!C192<=0,0.000001,Veriler!C192))","v":"-"},null,190,"-",7595.6151026392972,2154.5092048677825,4774.0748804184987,3285621.4743314972]
[null,191,{"$f":"IF(Veriler!C193=\"\",\"-\",IF(Veriler!C193<=0,0.000001,Veriler!C193))","v":"-"},null,191,"-",7633.4243035190621,2156.6857037384561,4789.2118906269507,3443868.3110497105]
[null,192,{"$f":"IF(Veriler!C194=\"\",\"-\",IF(Veriler!C194<=0,0.000001,Veriler!C194))","v":"-"},null,192,"-",7671.2335043988278,2158.8508370279897,4804.3174749357313,3609736.8599849152]
[null,193,{"$f":"IF(Veriler!C195=\"\",\"-\",IF(Veriler!C195<=0,0.000001,Veriler!C195))","v":"-"},null,193,"-",7709.0427052785935,2161.0047228211442,4819.3918617577983,3783594.2090253956]
[null,194,{"$f":"IF(Veriler!C196=\"\",\"-\",IF(Veriler!C196<=0,0.000001,Veriler!C196))","v":"-"},null,194,"-",7746.8519061583584,2163.147477371891,4834.4352766722259,3965825.1262753708]
[null,195,{"$f":"IF(Veriler!C197=\"\",\"-\",IF(Veriler!C197<=0,0.000001,Veriler!C197))","v":"-"},null,195,"-",7784.6611070381241,2165.2792151410686,4849.447942473791,4156832.9115950037]
[null,196,{"$f":"IF(Veriler!C198=\"\",\"-\",IF(Veriler!C198<=0,0.000001,Veriler!C198))","v":"-"},null,196,"-",7822.4703079178889,2167.4000488330639,4864.4300792214253,4357040.2891535852]
[null,197,{"$f":"IF(Veriler!C199=\"\",\"-\",IF(Veriler!C199<=0,0.000001,Veriler!C199))","v":"-"},null,197,"-",7860.2795087976547,2169.5100894315747,4879.3819042855848,4566890.3429710763]
[null,198,{"$f":"IF(Veriler!C200=\"\",\"-\",IF(Veriler!C200<=0,0.000001,Veriler!C200))","v":"-"},null,198,"-",7898.0887096774204,2171.6094462344527,4894.3036323945535,4786847.4975185795]
[null,199,{"$f":"IF(Veriler!C201=\"\",\"-\",IF(Veriler!C201<=0,0.000001,Veriler!C201))","v":"-"},null,199,"-",7935.8979105571852,2173.6982268876809,4909.1954756797368,5017398.5455479128]
[null,200,{"$f":"IF(Veriler!C202=\"\",\"-\",IF(Veriler!C202<=0,0.000001,Veriler!C202))","v":"-"},null,200,"-",7973.707111436951,2175.7765374184928,4924.0576437199461,5259053.7254249863]
[null,201,{"$f":"IF(Veriler!C203=\"\",\"-\",IF(Veriler!C203<=0,0.000001,Veriler!C203))","v":"-"},null,201,"-",8011.5163123167167,2177.8444822676638,4938.8903435847151,5512347.8503512209]
[null,202,{"$f":"IF(Veriler!C204=\"\",\"-\",IF(Veriler!C204<=0,0.000001,Veriler!C204))","v":"-"},null,202,"-",8049.3255131964816,2179.9021643210081,4953.6937798766503,5777841.4919722499]
[null,203,{"$f":"IF(Veriler!C205=\"\",\"-\",IF(Veriler!C205<=0,0.000001,Veriler!C205))","v":"-"},null,203,"-",8087.1347140762473,2181.9496849400939,4968.4681547728933,6056122.2209931985]
[null,204,{"$f":"IF(Veriler!C206=\"\",\"-\",IF(Veriler!C206<=0,0.000001,Veriler!C206))","v":"-"},null,204,"-",8124.943914956013,2183.9871439922017,4983.213668065664,6347805.9075463032]
[null,205,{"$f":"IF(Veriler!C207=\"\",\"-\",IF(Veriler!C207<=0,0.000001,Veriler!C207))","v":"-"},null,205,"-",8162.7531158357779,2186.0146398795578,4997.930517201934,6653538.0841887062]
[null,206,{"$f":"IF(Veriler!C208=\"\",\"-\",IF(Veriler!C208<=0,0.000001,Veriler!C208))","v":"-"},null,206,"-",8200.5623167155427,2188.0322695678433,5012.618897322247,6973995.3745469302]
[null,207,{"$f":"IF(Veriler!C209=\"\",\"-\",IF(Veriler!C209<=0,0.000001,Veriler!C209))","v":"-"},null,207,"-",8238.3715175953075,2190.0401286140304,5027.2790012987216,7309886.9907697169]
[null,208,{"$f":"IF(Veriler!C210=\"\",\"-\",IF(Veriler!C210<=0,0.000001,Veriler!C210))","v":"-"},null,208,"-",8276.1807184750742,2192.0383111935325,5041.9110197722448,7661956.3031034796]
[null,209,{"$f":"IF(Veriler!C211=\"\",\"-\",IF(Veriler!C211<=0,0.000001,Veriler!C211))","v":"-"},null,209,"-",8313.989919354839,2194.0269101267095,5056.5151411888683,8030982.4850637726]
[null,210,{"$f":"IF(Veriler!C212=\"\",\"-\",IF(Veriler!C212<=0,0.000001,Veriler!C212))","v":"-"},null,210,"-",8351.7991202346038,2196.006016904741,5071.091551835455,8417782.2378439661]
[null,211,{"$f":"IF(Veriler!C213=\"\",\"-\",IF(Veriler!C213<=0,0.000001,Veriler!C213))","v":"-"},null,211,"-",8389.6083211143705,2197.9757217148881,5085.6404358745704,8823211.5977773424]
[null,212,{"$f":"IF(Veriler!C214=\"\",\"-\",IF(Veriler!C214<=0,0.000001,Veriler!C214))","v":"-"},null,212,"-",8427.4175219941353,2199.9361134651454,5100.1619753786481,9248167.8308528084]
[null,213,{"$f":"IF(Veriler!C215=\"\",\"-\",IF(Veriler!C215<=0,0.000001,Veriler!C215))","v":"-"},null,213,"-",8465.2267228739001,2201.8872798083312,5114.6563503634607,9693591.4184769318]
[null,214,{"$f":"IF(Veriler!C216=\"\",\"-\",IF(Veriler!C216<=0,0.000001,Veriler!C216))","v":"-"},null,214,"-",8503.0359237536668,2203.8293071655935,5129.1237388208747,10160468.138877263]
[null,215,{"$f":"IF(Veriler!C217=\"\",\"-\",IF(Veriler!C217<=0,0.000001,Veriler!C217))","v":"-"},null,215,"-",8540.8451246334316,2205.7622807493908,5143.5643167509597,10649831.248753048]
[null,216,{"$f":"IF(Veriler!C218=\"\",\"-\",IF(Veriler!C218<=0,0.000001,Veriler!C218))","v":"-"},null,216,"-",8578.6543255131965,2207.6862845859159,5157.9782581934242,11162763.770001819]
[null,217,{"$f":"IF(Veriler!C219=\"\",\"-\",IF(Veriler!C219<=0,0.000001,Veriler!C219))","v":"-"},null,217,"-",8616.4635263929631,2209.6014015370192,5172.3657352584105,11700400.886582594]
[null,218,{"$f":"IF(Veriler!C220=\"\",\"-\",IF(Veriler!C220<=0,0.000001,Veriler!C220))","v":"-"},null,218,"-",8654.2727272727279,2211.5077133216218,5186.7269181566935,12263932.4568203]
[null,219,{"$f":"IF(Veriler!C221=\"\",\"-\",IF(Veriler!C221<=0,0.000001,Veriler!C221))","v":"-"},null,219,"-",8692.0819281524928,2213.4053005366377,5201.0619752292323,12854605.646711264]
[null,220,{"$f":"IF(Veriler!C222=\"\",\"-\",IF(Veriler!C222<=0,0.000001,Veriler!C222))","v":"-"},null,220,"-",8729.8911290322594,2215.2942426774198,5215.3710729761506,13473727.690058034]
[null,221,{"$f":"IF(Veriler!C223=\"\",\"-\",IF(Veriler!C223<=0,0.000001,Veriler!C223))","v":"-"},null,221,"-",8767.7003299120242,2217.1746181577446,5229.6543760851373,14122668.781541526]
[null,222,{"$f":"IF(Veriler!C224=\"\",\"-\",IF(Veriler!C224<=0,0.000001,Veriler!C224))","v":"-"},null,222,"-",8805.5095307917891,2219.0465043293443,5243.9120474592846,14802865.109133624]
[null,223,{"$f":"IF(Veriler!C225=\"\",\"-\",IF(Veriler!C225<=0,0.000001,Veriler!C225))","v":"-"},null,223,"-",8843.3187316715557,2220.909977501,5258.144248244369,15515822.032561151]
[null,224,{"$f":"IF(Veriler!C226=\"\",\"-\",IF(Veriler!C226<=0,0.000001,Veriler!C226))","v":"-"},null,224,"-",8881.1279325513206,2222.765112957205,5272.3511378555859,16263117.414855679]
[null,225,{"$f":"IF(Veriler!C227=\"\",\"-\",IF(Veriler!C227<=0,0.000001,Veriler!C227))","v":"-"},null,225,"-",8918.9371334310854,2224.6119849764191,5286.5328740037903,17046405.114362035]
[null,226,{"$f":"IF(Veriler!C228=\"\",\"-\",IF(Veriler!C228<=0,0.000001,Veriler!C228))","v":"-"},null,226,"-",8956.746334310852,2226.4506668489093,5300.6896127211876,17867418.644934304]
[null,227,{"$f":"IF(Veriler!C229=\"\",\"-\",IF(Veriler!C229<=0,0.000001,Veriler!C229))","v":"-"},null,227,"-",8994.5555351906169,2228.2812308942075,5314.8215083865525,18727975.012419138]
[null,228,{"$f":"IF(Veriler!C230=\"\",\"-\",IF(Veriler!C230<=0,0.000001,Veriler!C230))","v":"-"},null,{"$f":"B237","v":228},{"$f":"C237","v":"-"},{"$f":"$G$3*E237+$H$3","v":9032.3647360703817},{"$f":"$G$4*LN(E237)+$H$4","v":2230.1037484781727},{"$f":"$G$5*E237^$H$5","v":5328.9287137499541},{"$f":" $G$6 *EXP($H$6* E237)","v":19629978.735917468}]
[null,229,{"$f":"IF(Veriler!C231=\"\",\"-\",IF(Veriler!C231<=0,0.000001,Veriler!C231))","v":"-"},null,229,"-",9070.1739369501483,2231.9182900296892,5343.011379956989,20575426.062723964]
[null,230,{"$f":"IF(Veriler!C232=\"\",\"-\",IF(Veriler!C232<=0,0.000001,Veriler!C232))","v":"-"},null,230,"-",9107.9831378299132,2233.7249250569976,5357.0696565725721,21566409.386272565]
[null,231,{"$f":"IF(Veriler!C233=\"\",\"-\",IF(Veriler!C233<=0,0.000001,Veriler!C233))","v":"-"},null,231,"-",9145.792338709678,2235.523722163668,5371.1036916042549,22605121.876865231]
[null,232,{"$f":"IF(Veriler!C234=\"\",\"-\",IF(Veriler!C234<=0,0.000001,Veriler!C234))","v":"-"},null,232,"-",9183.6015395894428,2237.314749064235,5385.1136315251169,23693862.33543295]
[null,233,{"$f":"IF(Veriler!C235=\"\",\"-\",IF(Veriler!C235<=0,0.000001,Veriler!C235))","v":"-"},null,233,"-",9221.4107404692095,2239.0980725994923,5399.0996212962,24835040.28107015]
[null,234,{"$f":"IF(Veriler!C236=\"\",\"-\",IF(Veriler!C236<=0,0.000001,Veriler!C236))","v":"-"},null,234,"-",9259.2199413489743,2240.8737587514588,5413.0618043885524,26031181.283602517]
[null,235,{"$f":"IF(Veriler!C237=\"\",\"-\",IF(Veriler!C237<=0,0.000001,Veriler!C237))","v":"-"},null,235,"-",9297.0291422287391,2242.6418726580287,5427.0003228048245,27284932.552989572]
[null,236,{"$f":"IF(Veriler!C238=\"\",\"-\",IF(Veriler!C238<=0,0.000001,Veriler!C238))","v":"-"},null,236,"-",9334.8383431085058,2244.4024786273112,5440.9153171004837,28599068.797932114]
[null,237,{"$f":"IF(Veriler!C239=\"\",\"-\",IF(Veriler!C239<=0,0.000001,Veriler!C239))","v":"-"},null,237,"-",9372.6475439882706,2246.15564015166,5454.8069264046298,29976498.366650198]
[null,238,{"$f":"IF(Veriler!C240=\"\",\"-\",IF(Veriler!C240<=0,0.000001,Veriler!C240))","v":"-"},null,238,"-",9410.4567448680355,2247.901419921418,5468.6752884404223,31420269.683422547]
[null,239,{"$f":"IF(Veriler!C241=\"\",\"-\",IF(Veriler!C241<=0,0.000001,Veriler!C241))","v":"-"},null,239,"-",9448.2659457478021,2249.6398798383625,5482.5205395451185,32933577.995131355]
[null,240,{"$f":"IF(Veriler!C242=\"\",\"-\",IF(Veriler!C242<=0,0.000001,Veriler!C242))","v":"-"},null,240,"-",9486.0751466275669,2251.3710810288831,5496.3428146897777,34519772.442744188]
[null,241,{"$f":"IF(Veriler!C243=\"\",\"-\",IF(Veriler!C243<=0,0.000001,Veriler!C243))","v":"-"},null,241,"-",9523.8843475073318,2253.0950838568688,5510.1422474985629,36182363.473382697]
[null,242,{"$f":"IF(Veriler!C244=\"\",\"-\",IF(Veriler!C244<=0,0.000001,Veriler!C244))","v":"-"},null,242,"-",9561.6935483870984,2254.8119479363459,5523.9189702677204,37925030.609382175]
[null,243,{"$f":"IF(Veriler!C245=\"\",\"-\",IF(Veriler!C245<=0,0.000001,Veriler!C245))","v":"-"},null,243,"-",9599.5027492668632,2256.5217321438422,5537.6731139841977,39751630.591535397]
[null,244,{"$f":"IF(Veriler!C246=\"\",\"-\",IF(Veriler!C246<=0,0.000001,Veriler!C246))","v":"-"},null,244,"-",9637.3119501466281,2258.2244946305018,5551.4048083439393,41666205.914543763]
[null,245,{"$f":"IF(Veriler!C247=\"\",\"-\",IF(Veriler!C247<=0,0.000001,Veriler!C247))","v":"-"},null,245,"-",9675.1211510263947,2259.9202928339573,5565.1141817698408,43672993.773564503]
[null,246,{"$f":"IF(Veriler!C248=\"\",\"-\",IF(Veriler!C248<=0,0.000001,Veriler!C248))","v":"-"},null,246,"-",9712.9303519061596,2261.6091834899471,5578.8013614293832,45776435.441654697]
[null,247,{"$f":"IF(Veriler!C249=\"\",\"-\",IF(Veriler!C249<=0,0.000001,Veriler!C249))","v":"-"},null,247,"-",9750.7395527859244,2263.2912226437147,5592.4664732519677,47981186.098865226]
[null,248,{"$f":"IF(Veriler!C250=\"\",\"-\",IF(Veriler!C250<=0,0.000001,Veriler!C250))","v":"-"},null,248,"-",9788.548753665691,2264.9664656611612,5606.1096419459063,50292125.13473773]
[null,249,{"$f":"IF(Veriler!C251=\"\",\"-\",IF(Veriler!C251<=0,0.000001,Veriler!C251))","v":"-"},null,249,"-",9826.3579545454559,2266.6349672397819,5619.7309910151589,52714366.947004944]
[null,250,{"$f":"IF(Veriler!C252=\"\",\"-\",IF(Veriler!C252<=0,0.000001,Veriler!C252))","v":"-"},null,250,"-",9864.1671554252207,2268.2967814193853,5633.3306427757361,55253272.260394379]